BEGIN:VCALENDAR
VERSION:2.0
PRODID:-//Fondazione Santomasi - ECPv6.15.2//NONSGML v1.0//EN
CALSCALE:GREGORIAN
METHOD:PUBLISH
X-WR-CALNAME:Fondazione Santomasi
X-ORIGINAL-URL:https://fondazionesantomasi.it
X-WR-CALDESC:Eventi per Fondazione Santomasi
REFRESH-INTERVAL;VALUE=DURATION:PT1H
X-Robots-Tag:noindex
X-PUBLISHED-TTL:PT1H
BEGIN:VTIMEZONE
TZID:UTC
BEGIN:STANDARD
TZOFFSETFROM:+0000
TZOFFSETTO:+0000
TZNAME:UTC
DTSTART:20260101T000000
END:STANDARD
END:VTIMEZONE
BEGIN:VEVENT
DTSTART;VALUE=DATE:20260424
DTEND;VALUE=DATE:20260425
DTSTAMP:20260423T051323
CREATED:20260422T090503Z
LAST-MODIFIED:20260422T090503Z
UID:5845-1776988800-1777075199@fondazionesantomasi.it
SUMMARY:Semi di Innovazione:Gravina e il futuro delle colture tradizionali
DESCRIPTION:Ricerca\,innovazioni\,prospettive\,proposte \nProgetto realizzato con il  finanziamento della Regione Puglia \n24 Aprile 2026 ore 11\,00 \nSala Convegni -Fiera di San Giorgio
URL:https://fondazionesantomasi.it/event/semi-di-innovazionegravina-e-il-futuro-delle-colture-tradizionali/
ATTACH;FMTTYPE=image/jpeg:https://fondazionesantomasi.it/wp-content/uploads/2026/04/Screenshot_20260422_105029_Word.jpg
END:VEVENT
END:VCALENDAR